BEGIN:VCALENDAR
VERSION:2.0
PRODID:-//eventon.com NONSGML v1.0//EN
CALSCALE:GREGORIAN
METHOD:PUBLISH
BEGIN:VEVENT
UID:69ed8808c1808
DTSTAMP:20260425T233536
DTSTART:20201212T080000Z
DTEND:20201213T050000Z
TZID:America/Chicago
LOCATION:UCj88H0KNyakiUXuN7jSz_EQ
SUMMARY:Virtual Diplomacy League - December Games
DESCRIPTION: Round 1: 2:00am Central Time Round 2: 9:00am Central Time Round 3: 4:00pm Central Time\nhttps://thenadf.org/events/virtual-diplomacy-league-december-game/var/event_access
URL:https://thenadf.org/events/virtual-diplomacy-league-december-game/var/event_access
END:VEVENT
END:VCALENDAR