BEGIN:VCALENDAR
VERSION:2.0
PRODID:-//eventon.com NONSGML v1.0//EN
CALSCALE:GREGORIAN
METHOD:PUBLISH
BEGIN:VEVENT
UID:69ea08cb9e3b6
DTSTAMP:20260423T075555
DTSTART:20260814
DTEND:20260818
TZID:America/New_York
LOCATION:
SUMMARY:Boston Massacre - Cambridge\,  MA
DESCRIPTION: Details\,  registration and location to come\nhttps://thenadf.org/events/boston-massacre-cambridge-ma-2/
URL:https://thenadf.org/events/boston-massacre-cambridge-ma-2/
END:VEVENT
END:VCALENDAR