BEGIN:VCALENDAR
VERSION:2.0
PRODID:-//eventon.com NONSGML v1.0//EN
CALSCALE:GREGORIAN
METHOD:PUBLISH
BEGIN:VEVENT
UID:69ea08cb9e421
DTSTAMP:20260423T075555
DTSTART:20260710
DTEND:20260714
TZID:America/New_York
LOCATION:Polonsky Shakespeare Center - Brooklyn 262 Ashland Place
SUMMARY:DiploRat Mischief - New York City
DESCRIPTION: The New York DiploRat Diplomacy Club is hosting its inaugural ball at the Polonsky Shakespeare Center. Beginners and champions alike are invited to come and play the greatest board game ever made. The Rats intend to defend their home turf &#8211; can you take the crown home to your city?[..]\nhttps://thenadf.org/events/diplorat-mischief-new-york-city/
URL:https://thenadf.org/events/diplorat-mischief-new-york-city/
END:VEVENT
END:VCALENDAR