BEGIN:VCALENDAR
VERSION:2.0
PRODID:-//eventon.com NONSGML v1.0//EN
CALSCALE:GREGORIAN
METHOD:PUBLISH
BEGIN:VEVENT
UID:69ea08f243872
DTSTAMP:20260423T075634
DTSTART:20260730
DTEND:20260804
TZID:America/Denver
LOCATION:DoubleTree Thornton 86 E 120th Ave
SUMMARY:DipCon @ The Regatta - Denver\,  CO
DESCRIPTION: Denver is the 2026 host of the North American DipCon. Register here for your shot at becoming the next DipCon champion!\nhttps://thenadf.org/events/dipcon-the-regatta-denver-co/
URL:https://thenadf.org/events/dipcon-the-regatta-denver-co/
END:VEVENT
END:VCALENDAR