BEGIN:VCALENDAR
VERSION:2.0
PRODID:-//eventon.com NONSGML v1.0//EN
CALSCALE:GREGORIAN
METHOD:PUBLISH
BEGIN:VEVENT
UID:69e9f050beaa1
DTSTAMP:20260423T061128
DTSTART:20260522
DTEND:20260526
TZID:America/New_York
LOCATION:Granville Towers\,  Chapel Hill 2100 Granville Towers Ln
SUMMARY:DixieCon - Chapel Hill\,  NC
DESCRIPTION: DixieCon is the world&#8217;s longest running Diplomacy tournament. It&#8217;s held each year on Memorial Day weekend. Sign up here!\nhttps://thenadf.org/events/dixiecon-chapel-hill-nc/
URL:https://thenadf.org/events/dixiecon-chapel-hill-nc/
END:VEVENT
END:VCALENDAR