BEGIN:VCALENDAR
VERSION:2.0
PRODID:-//eventon.com NONSGML v1.0//EN
CALSCALE:GREGORIAN
METHOD:PUBLISH
BEGIN:VEVENT
UID:69e9effa156e0
DTSTAMP:20260423T061002
DTSTART:20260521
DTEND:20260525
TZID:Europe/Athens
LOCATION:Saronida\,  Athens\,  Greece 
SUMMARY:World Diplomacy Championship - Athens\,  Greece
DESCRIPTION: Come along to fight for the crown\,  come along to see long time friends and make new ones\,  come along to eat the best seafood you&#8217;ve ever had\,  or come along to say that YOU were there at the Athens 2026! Register here\nhttps://thenadf.org/events/world-diplomacy-championship-athens-greece/
URL:https://thenadf.org/events/world-diplomacy-championship-athens-greece/
END:VEVENT
END:VCALENDAR