BEGIN:VCALENDAR
VERSION:2.0
PRODID:-//eventon.com NONSGML v1.0//EN
CALSCALE:GREGORIAN
METHOD:PUBLISH
BEGIN:VEVENT
UID:69e96695c90f7
DTSTAMP:20260422T202349
DTSTART:20241101T040000Z
DTEND:20241103T040000Z
TZID:America/New_York
LOCATION:
SUMMARY:Carnage Gaming Convention Open
DESCRIPTION: The Carnage Open Tournament is part of the Carnage Gaming Convention held November 1 – 3\,  2023 in Killington\,  Vermont. General information about the convention can be found at https://carnagecon.com. Join the Carnage Discord server for more information!\nhttps://thenadf.org/events/carnage-gaming-convention-open/
URL:https://thenadf.org/events/carnage-gaming-convention-open/
END:VEVENT
END:VCALENDAR