BEGIN:VCALENDAR
VERSION:2.0
PRODID:-//eventon.com NONSGML v1.0//EN
CALSCALE:GREGORIAN
METHOD:PUBLISH
BEGIN:VEVENT
UID:69e966960fd81
DTSTAMP:20260422T202350
DTSTART:20240203
DTEND:20240206
TZID:America/Vancouver
LOCATION:Vancouver\,  British Columbia 
SUMMARY:2024 North American DipCon @ Cascadia Open
DESCRIPTION: 2024 North American DipCon @ Cascadia Open\nhttps://thenadf.org/events/2024-north-american-dipcon-cascadia-open/
URL:https://thenadf.org/events/2024-north-american-dipcon-cascadia-open/
END:VEVENT
END:VCALENDAR