BEGIN:VCALENDAR
VERSION:2.0
PRODID:-//eventon.com NONSGML v1.0//EN
CALSCALE:GREGORIAN
METHOD:PUBLISH
BEGIN:VEVENT
UID:69e97add465ca
DTSTAMP:20260422T215021
DTSTART:20230415T000000Z
DTEND:20230417T000000Z
TZID:America/Los_Angeles
LOCATION:
SUMMARY:2023 Whipping
DESCRIPTION: 2023 Whipping\nhttps://thenadf.org/events/whipping/
URL:https://thenadf.org/events/whipping/
END:VEVENT
END:VCALENDAR